BEGIN:VCALENDAR
VERSION:2.0
PRODID:-//WRCAC - ECPv6.15.20//NONSGML v1.0//EN
CALSCALE:GREGORIAN
METHOD:PUBLISH
X-WR-CALNAME:WRCAC
X-ORIGINAL-URL:https://www.westernregionalcac.org
X-WR-CALDESC:Events for WRCAC
REFRESH-INTERVAL;VALUE=DURATION:PT1H
X-Robots-Tag:noindex
X-PUBLISHED-TTL:PT1H
BEGIN:VTIMEZONE
TZID:America/Los_Angeles
BEGIN:DAYLIGHT
TZOFFSETFROM:-0800
TZOFFSETTO:-0700
TZNAME:PDT
DTSTART:20240310T100000
END:DAYLIGHT
BEGIN:STANDARD
TZOFFSETFROM:-0700
TZOFFSETTO:-0800
TZNAME:PST
DTSTART:20241103T090000
END:STANDARD
BEGIN:DAYLIGHT
TZOFFSETFROM:-0800
TZOFFSETTO:-0700
TZNAME:PDT
DTSTART:20250309T100000
END:DAYLIGHT
BEGIN:STANDARD
TZOFFSETFROM:-0700
TZOFFSETTO:-0800
TZNAME:PST
DTSTART:20251102T090000
END:STANDARD
BEGIN:DAYLIGHT
TZOFFSETFROM:-0800
TZOFFSETTO:-0700
TZNAME:PDT
DTSTART:20260308T100000
END:DAYLIGHT
BEGIN:STANDARD
TZOFFSETFROM:-0700
TZOFFSETTO:-0800
TZNAME:PST
DTSTART:20261101T090000
END:STANDARD
END:VTIMEZONE
BEGIN:VEVENT
DTSTART;TZID=America/Los_Angeles:20250508T110000
DTEND;TZID=America/Los_Angeles:20250508T123000
DTSTAMP:20260420T013534
CREATED:20241114T161352Z
LAST-MODIFIED:20241114T165656Z
UID:6086-1746702000-1746707400@www.westernregionalcac.org
SUMMARY:RCAC MDT Facilitator Peer Forum
DESCRIPTION:
URL:https://www.westernregionalcac.org/calendar/rcac-mdt-facilitator-peer-forum-4/
CATEGORIES:CAC Directors,Forum,In-Person,MDT Facilitators,Meeting,Mental Health Clinicians,Mental Health Clinicians|Victim Advocates,VOCAA Partner Trainings (iCalendar feed)
END:VEVENT
BEGIN:VEVENT
DTSTART;TZID=America/Los_Angeles:20250519T130000
DTEND;TZID=America/Los_Angeles:20250519T143000
DTSTAMP:20260420T013534
CREATED:20241114T161352Z
LAST-MODIFIED:20241114T165656Z
UID:6087-1747659600-1747665000@www.westernregionalcac.org
SUMMARY:WRCAC MDT Facilitator Rural Roundtable
DESCRIPTION:
URL:https://www.westernregionalcac.org/calendar/wrcac-mdt-facilitator-rural-roundtable-5/
CATEGORIES:CAC Directors,Forum,In-Person,MDT Facilitators,Meeting,Mental Health Clinicians,Mental Health Clinicians|Victim Advocates
END:VEVENT
BEGIN:VEVENT
DTSTART;TZID=America/Los_Angeles:20250519T130000
DTEND;TZID=America/Los_Angeles:20250519T143000
DTSTAMP:20260420T013534
CREATED:20241114T161353Z
LAST-MODIFIED:20241114T165655Z
UID:6088-1747659600-1747665000@www.westernregionalcac.org
SUMMARY:WRCAC MDT Facilitator Rural Roundtable
DESCRIPTION:
URL:https://www.westernregionalcac.org/calendar/wrcac-mdt-facilitator-rural-roundtable-6/
CATEGORIES:CAC Directors,Forum,In-Person,MDT Facilitators,Meeting,Mental Health Clinicians,Mental Health Clinicians|Victim Advocates,VOCAA Partner Trainings (iCalendar feed)
END:VEVENT
BEGIN:VEVENT
DTSTART;TZID=America/Los_Angeles:20250520T110000
DTEND;TZID=America/Los_Angeles:20250520T123000
DTSTAMP:20260420T013534
CREATED:20241114T161353Z
LAST-MODIFIED:20241114T165655Z
UID:6089-1747738800-1747744200@www.westernregionalcac.org
SUMMARY:RCAC Victim Advocacy Peer Forum
DESCRIPTION:
URL:https://www.westernregionalcac.org/calendar/rcac-victim-advocacy-peer-forum-4/
CATEGORIES:CAC Directors,Forum,In-Person,MDT Facilitators,Meeting,Mental Health Clinicians,Mental Health Clinicians|Victim Advocates,Victim Advocates
END:VEVENT
BEGIN:VEVENT
DTSTART;TZID=America/Los_Angeles:20250520T110000
DTEND;TZID=America/Los_Angeles:20250520T123000
DTSTAMP:20260420T013534
CREATED:20241114T161353Z
LAST-MODIFIED:20241114T165655Z
UID:6090-1747738800-1747744200@www.westernregionalcac.org
SUMMARY:RCAC Victim Advocacy Peer Forum
DESCRIPTION:
URL:https://www.westernregionalcac.org/calendar/rcac-victim-advocacy-peer-forum-3/
CATEGORIES:CAC Directors,Forum,In-Person,MDT Facilitators,Meeting,Mental Health Clinicians,Mental Health Clinicians|Victim Advocates,VOCAA Partner Trainings (iCalendar feed)
END:VEVENT
END:VCALENDAR