BEGIN:VCALENDAR
VERSION:2.0
PRODID:-//WRCAC - ECPv6.15.20//NONSGML v1.0//EN
CALSCALE:GREGORIAN
METHOD:PUBLISH
X-WR-CALNAME:WRCAC
X-ORIGINAL-URL:https://www.westernregionalcac.org
X-WR-CALDESC:Events for WRCAC
REFRESH-INTERVAL;VALUE=DURATION:PT1H
X-Robots-Tag:noindex
X-PUBLISHED-TTL:PT1H
BEGIN:VTIMEZONE
TZID:America/Los_Angeles
BEGIN:DAYLIGHT
TZOFFSETFROM:-0800
TZOFFSETTO:-0700
TZNAME:PDT
DTSTART:20220313T100000
END:DAYLIGHT
BEGIN:STANDARD
TZOFFSETFROM:-0700
TZOFFSETTO:-0800
TZNAME:PST
DTSTART:20221106T090000
END:STANDARD
BEGIN:DAYLIGHT
TZOFFSETFROM:-0800
TZOFFSETTO:-0700
TZNAME:PDT
DTSTART:20230312T100000
END:DAYLIGHT
BEGIN:STANDARD
TZOFFSETFROM:-0700
TZOFFSETTO:-0800
TZNAME:PST
DTSTART:20231105T090000
END:STANDARD
BEGIN:DAYLIGHT
TZOFFSETFROM:-0800
TZOFFSETTO:-0700
TZNAME:PDT
DTSTART:20240310T100000
END:DAYLIGHT
BEGIN:STANDARD
TZOFFSETFROM:-0700
TZOFFSETTO:-0800
TZNAME:PST
DTSTART:20241103T090000
END:STANDARD
BEGIN:DAYLIGHT
TZOFFSETFROM:-0800
TZOFFSETTO:-0700
TZNAME:PDT
DTSTART:20250309T100000
END:DAYLIGHT
BEGIN:STANDARD
TZOFFSETFROM:-0700
TZOFFSETTO:-0800
TZNAME:PST
DTSTART:20251102T090000
END:STANDARD
BEGIN:DAYLIGHT
TZOFFSETFROM:-0800
TZOFFSETTO:-0700
TZNAME:PDT
DTSTART:20260308T100000
END:DAYLIGHT
BEGIN:STANDARD
TZOFFSETFROM:-0700
TZOFFSETTO:-0800
TZNAME:PST
DTSTART:20261101T090000
END:STANDARD
END:VTIMEZONE
BEGIN:VEVENT
DTSTART;TZID=America/Los_Angeles:20250123T120000
DTEND;TZID=America/Los_Angeles:20250123T133000
DTSTAMP:20260420T165911
CREATED:20241114T161346Z
LAST-MODIFIED:20241114T165703Z
UID:6059-1737633600-1737639000@www.westernregionalcac.org
SUMMARY:Victim Advocate & Mental Health Partnerships Peer Consultation Forum
DESCRIPTION:
URL:https://www.westernregionalcac.org/calendar/victim-advocate-mental-health-partnerships-peer-consultation-forum-2/
CATEGORIES:CAC Directors,Forum,In-Person,MDT Facilitators,Meeting,Mental Health Clinicians,Mental Health Clinicians|Victim Advocates
END:VEVENT
BEGIN:VEVENT
DTSTART;TZID=America/Los_Angeles:20250116T000000
DTEND;TZID=America/Los_Angeles:20250116T235900
DTSTAMP:20260420T165911
CREATED:20241114T161346Z
LAST-MODIFIED:20241114T165704Z
UID:6058-1736985600-1737071940@www.westernregionalcac.org
SUMMARY:CE-CERT Part 1:  South Carolina Network of Children's Advocacy Centers
DESCRIPTION:
URL:https://www.westernregionalcac.org/calendar/ce-cert-part-1-south-carolina-network-of-childrens-advocacy-centers/
CATEGORIES:CAC Directors,Forum,In-Person,MDT Facilitators,Meeting,Mental Health Clinicians,Mental Health Clinicians|Victim Advocates,VOCAA Partner Trainings (iCalendar feed)
END:VEVENT
BEGIN:VEVENT
DTSTART;TZID=America/Los_Angeles:20241218T000000
DTEND;TZID=America/Los_Angeles:20241218T235900
DTSTAMP:20260420T165911
CREATED:20241114T161346Z
LAST-MODIFIED:20241114T165704Z
UID:6057-1734480000-1734566340@www.westernregionalcac.org
SUMMARY:Foundations of CAC Family Advocacy
DESCRIPTION:
URL:https://www.westernregionalcac.org/calendar/foundations-of-cac-family-advocacy-8/
CATEGORIES:CAC Directors,Forum,In-Person,MDT Facilitators,Meeting,Mental Health Clinicians,Mental Health Clinicians|Victim Advocates,VOCAA Partner Trainings (iCalendar feed)
END:VEVENT
BEGIN:VEVENT
DTSTART;TZID=America/Los_Angeles:20241218T000000
DTEND;TZID=America/Los_Angeles:20241218T235900
DTSTAMP:20260420T165911
CREATED:20241114T161346Z
LAST-MODIFIED:20241114T165704Z
UID:6056-1734480000-1734566340@www.westernregionalcac.org
SUMMARY:Foundations of CAC Family Advocacy
DESCRIPTION:
URL:https://www.westernregionalcac.org/calendar/foundations-of-cac-family-advocacy-7/
CATEGORIES:CAC Directors,Forum,In-Person,MDT Facilitators,Meeting,Mental Health Clinicians,Mental Health Clinicians|Victim Advocates,Victim Advocates
END:VEVENT
BEGIN:VEVENT
DTSTART;TZID=America/Los_Angeles:20241216T000000
DTEND;TZID=America/Los_Angeles:20241216T235900
DTSTAMP:20260420T165911
CREATED:20241114T161346Z
LAST-MODIFIED:20241114T165704Z
UID:6055-1734307200-1734393540@www.westernregionalcac.org
SUMMARY:Foundations of CAC Family Advocacy
DESCRIPTION:
URL:https://www.westernregionalcac.org/calendar/foundations-of-cac-family-advocacy-6/
CATEGORIES:CAC Directors,Forum,In-Person,MDT Facilitators,Meeting,Mental Health Clinicians,Mental Health Clinicians|Victim Advocates,VOCAA Partner Trainings (iCalendar feed)
END:VEVENT
BEGIN:VEVENT
DTSTART;TZID=America/Los_Angeles:20241216T000000
DTEND;TZID=America/Los_Angeles:20241216T235900
DTSTAMP:20260420T165911
CREATED:20241114T161345Z
LAST-MODIFIED:20241114T165705Z
UID:6054-1734307200-1734393540@www.westernregionalcac.org
SUMMARY:Foundations of CAC Family Advocacy
DESCRIPTION:
URL:https://www.westernregionalcac.org/calendar/foundations-of-cac-family-advocacy-5/
CATEGORIES:CAC Directors,Forum,In-Person,MDT Facilitators,Meeting,Mental Health Clinicians,Mental Health Clinicians|Victim Advocates,Victim Advocates
END:VEVENT
BEGIN:VEVENT
DTSTART;TZID=America/Los_Angeles:20241211T000000
DTEND;TZID=America/Los_Angeles:20241211T235900
DTSTAMP:20260420T165911
CREATED:20241114T161345Z
LAST-MODIFIED:20241114T165705Z
UID:6053-1733875200-1733961540@www.westernregionalcac.org
SUMMARY:Foundations of CAC Family Advocacy
DESCRIPTION:
URL:https://www.westernregionalcac.org/calendar/foundations-of-cac-family-advocacy-4/
CATEGORIES:CAC Directors,Forum,In-Person,MDT Facilitators,Meeting,Mental Health Clinicians,Mental Health Clinicians|Victim Advocates,VOCAA Partner Trainings (iCalendar feed)
END:VEVENT
BEGIN:VEVENT
DTSTART;TZID=America/Los_Angeles:20241211T000000
DTEND;TZID=America/Los_Angeles:20241211T235900
DTSTAMP:20260420T165911
CREATED:20241114T161345Z
LAST-MODIFIED:20241114T165705Z
UID:6052-1733875200-1733961540@www.westernregionalcac.org
SUMMARY:Foundations of CAC Family Advocacy
DESCRIPTION:
URL:https://www.westernregionalcac.org/calendar/foundations-of-cac-family-advocacy-3/
CATEGORIES:CAC Directors,Forum,In-Person,MDT Facilitators,Meeting,Mental Health Clinicians,Mental Health Clinicians|Victim Advocates,Victim Advocates
END:VEVENT
BEGIN:VEVENT
DTSTART;TZID=America/Los_Angeles:20241209T000000
DTEND;TZID=America/Los_Angeles:20241209T235900
DTSTAMP:20260420T165911
CREATED:20241114T161345Z
LAST-MODIFIED:20241114T165705Z
UID:6051-1733702400-1733788740@www.westernregionalcac.org
SUMMARY:Foundations of CAC Family Advocacy
DESCRIPTION:
URL:https://www.westernregionalcac.org/calendar/foundations-of-cac-family-advocacy-2/
CATEGORIES:CAC Directors,Forum,In-Person,MDT Facilitators,Meeting,Mental Health Clinicians,Mental Health Clinicians|Victim Advocates,VOCAA Partner Trainings (iCalendar feed)
END:VEVENT
BEGIN:VEVENT
DTSTART;TZID=America/Los_Angeles:20241209T000000
DTEND;TZID=America/Los_Angeles:20241209T235900
DTSTAMP:20260420T165911
CREATED:20241114T161344Z
LAST-MODIFIED:20241114T165706Z
UID:6050-1733702400-1733788740@www.westernregionalcac.org
SUMMARY:Foundations of CAC Family Advocacy
DESCRIPTION:
URL:https://www.westernregionalcac.org/calendar/foundations-of-cac-family-advocacy/
CATEGORIES:CAC Directors,Forum,In-Person,MDT Facilitators,Meeting,Mental Health Clinicians,Mental Health Clinicians|Victim Advocates,Victim Advocates
END:VEVENT
BEGIN:VEVENT
DTSTART;TZID=America/Los_Angeles:20241204T000000
DTEND;TZID=America/Los_Angeles:20241205T235900
DTSTAMP:20260420T165912
CREATED:20241114T161344Z
LAST-MODIFIED:20241114T165706Z
UID:6049-1733270400-1733443140@www.westernregionalcac.org
SUMMARY:CE-CERT Part 1 Training:   South Carolina Network of Children's Advocacy Centers
DESCRIPTION:
URL:https://www.westernregionalcac.org/calendar/ce-cert-part-1-training-south-carolina-network-of-childrens-advocacy-centers/
CATEGORIES:CAC Directors,Forum,In-Person,MDT Facilitators,Meeting,Mental Health Clinicians,Mental Health Clinicians|Victim Advocates,VOCAA Partner Trainings (iCalendar feed)
END:VEVENT
BEGIN:VEVENT
DTSTART;TZID=America/Los_Angeles:20241119T130000
DTEND;TZID=America/Los_Angeles:20241119T143000
DTSTAMP:20260420T165912
CREATED:20241114T161344Z
LAST-MODIFIED:20241114T165706Z
UID:6048-1732021200-1732026600@www.westernregionalcac.org
SUMMARY:WRCAC MDT Facilitator Rural Roundtable
DESCRIPTION:
URL:https://www.westernregionalcac.org/calendar/wrcac-mdt-facilitator-rural-roundtable-2/
CATEGORIES:CAC Directors,Forum,In-Person,MDT Facilitators,Meeting,Mental Health Clinicians,Mental Health Clinicians|Victim Advocates,VOCAA Partner Trainings (iCalendar feed)
END:VEVENT
BEGIN:VEVENT
DTSTART;TZID=America/Los_Angeles:20241119T130000
DTEND;TZID=America/Los_Angeles:20241119T143000
DTSTAMP:20260420T165912
CREATED:20241114T161344Z
LAST-MODIFIED:20241114T165706Z
UID:6047-1732021200-1732026600@www.westernregionalcac.org
SUMMARY:WRCAC MDT Facilitator Rural Roundtable
DESCRIPTION:
URL:https://www.westernregionalcac.org/calendar/wrcac-mdt-facilitator-rural-roundtable/
CATEGORIES:CAC Directors,Forum,In-Person,MDT Facilitators,Meeting,Mental Health Clinicians,Mental Health Clinicians|Victim Advocates
END:VEVENT
BEGIN:VEVENT
DTSTART;TZID=America/Los_Angeles:20241112T090000
DTEND;TZID=America/Los_Angeles:20241112T103000
DTSTAMP:20260420T165912
CREATED:20241114T161344Z
LAST-MODIFIED:20241114T165707Z
UID:6046-1731402000-1731407400@www.westernregionalcac.org
SUMMARY:WRCAC/NCA Mental Health Peer Consultation Forum
DESCRIPTION:
URL:https://www.westernregionalcac.org/calendar/wrcac-nca-mental-health-peer-consultation-forum-2/
CATEGORIES:CAC Directors,Forum,In-Person,MDT Facilitators,Meeting,Mental Health Clinicians,Mental Health Clinicians|Victim Advocates,VOCAA Partner Trainings (iCalendar feed)
END:VEVENT
BEGIN:VEVENT
DTSTART;TZID=America/Los_Angeles:20241112T090000
DTEND;TZID=America/Los_Angeles:20241112T103000
DTSTAMP:20260420T165912
CREATED:20241114T161343Z
LAST-MODIFIED:20241114T165707Z
UID:6045-1731402000-1731407400@www.westernregionalcac.org
SUMMARY:WRCAC/NCA Mental Health Peer Consultation Forum
DESCRIPTION:
URL:https://www.westernregionalcac.org/calendar/wrcac-nca-mental-health-peer-consultation-forum/
CATEGORIES:CAC Directors,Forum,In-Person,MDT Facilitators,Meeting,Mental Health Clinicians,Mental Health Clinicians|Victim Advocates
END:VEVENT
BEGIN:VEVENT
DTSTART;TZID=America/Los_Angeles:20241112T000000
DTEND;TZID=America/Los_Angeles:20241114T235900
DTSTAMP:20260420T165912
CREATED:20241114T161343Z
LAST-MODIFIED:20241114T165707Z
UID:6044-1731369600-1731628740@www.westernregionalcac.org
SUMMARY:RCAC FOTF2
DESCRIPTION:
URL:https://www.westernregionalcac.org/calendar/rcac-fotf2/
CATEGORIES:CAC Directors,Forum,In-Person,MDT Facilitators,Meeting,Mental Health Clinicians,Mental Health Clinicians|Victim Advocates,VOCAA Partner Trainings (iCalendar feed)
END:VEVENT
BEGIN:VEVENT
DTSTART;TZID=America/Los_Angeles:20241031T110000
DTEND;TZID=America/Los_Angeles:20241031T123000
DTSTAMP:20260420T165912
CREATED:20241114T161343Z
LAST-MODIFIED:20241114T165708Z
UID:6042-1730372400-1730377800@www.westernregionalcac.org
SUMMARY:Victim Advocacy Peer Forum
DESCRIPTION:
URL:https://www.westernregionalcac.org/calendar/victim-advocacy-peer-forum/
CATEGORIES:CAC Directors,Forum,In-Person,MDT Facilitators,Meeting,Mental Health Clinicians,Mental Health Clinicians|Victim Advocates,Victim Advocates
END:VEVENT
BEGIN:VEVENT
DTSTART;TZID=America/Los_Angeles:20241031T110000
DTEND;TZID=America/Los_Angeles:20241031T123000
DTSTAMP:20260420T165912
CREATED:20241114T161343Z
LAST-MODIFIED:20241114T165707Z
UID:6043-1730372400-1730377800@www.westernregionalcac.org
SUMMARY:Victim Advocacy Peer Forum
DESCRIPTION:
URL:https://www.westernregionalcac.org/calendar/victim-advocacy-peer-forum-2/
CATEGORIES:CAC Directors,Forum,In-Person,MDT Facilitators,Meeting,Mental Health Clinicians,Mental Health Clinicians|Victim Advocates,VOCAA Partner Trainings (iCalendar feed)
END:VEVENT
BEGIN:VEVENT
DTSTART;TZID=America/Los_Angeles:20241024T000000
DTEND;TZID=America/Los_Angeles:20241024T235900
DTSTAMP:20260420T165912
CREATED:20241114T161342Z
LAST-MODIFIED:20241114T165708Z
UID:6041-1729728000-1729814340@www.westernregionalcac.org
SUMMARY:CE-CERT Part 2:  Children's Advocacy Centers of Washington
DESCRIPTION:
URL:https://www.westernregionalcac.org/calendar/ce-cert-part-2-childrens-advocacy-centers-of-washington/
CATEGORIES:CAC Directors,Forum,In-Person,MDT Facilitators,Meeting,Mental Health Clinicians,Mental Health Clinicians|Victim Advocates,VOCAA Partner Trainings (iCalendar feed)
END:VEVENT
BEGIN:VEVENT
DTSTART;TZID=America/Los_Angeles:20241023T110000
DTEND;TZID=America/Los_Angeles:20241023T123000
DTSTAMP:20260420T165912
CREATED:20241114T161342Z
LAST-MODIFIED:20241114T165708Z
UID:6040-1729681200-1729686600@www.westernregionalcac.org
SUMMARY:RCAC MDT Facilitator Peer Forum
DESCRIPTION:
URL:https://www.westernregionalcac.org/calendar/rcac-mdt-facilitator-peer-forum/
CATEGORIES:CAC Directors,Forum,In-Person,MDT Facilitators,Meeting,Mental Health Clinicians,Mental Health Clinicians|Victim Advocates,VOCAA Partner Trainings (iCalendar feed)
END:VEVENT
BEGIN:VEVENT
DTSTART;TZID=America/Los_Angeles:20241017T100000
DTEND;TZID=America/Los_Angeles:20241017T113000
DTSTAMP:20260420T165912
CREATED:20241114T161342Z
LAST-MODIFIED:20241114T161416Z
UID:6039-1729159200-1729164600@www.westernregionalcac.org
SUMMARY:WRCAC Victim Advocate & Mental Health Partnerships Peer Consultation Forum
DESCRIPTION:
URL:https://www.westernregionalcac.org/calendar/wrcac-victim-advocate-mental-health-partnerships-peer-consultation-forum/
CATEGORIES:CAC Directors,Forum,In-Person,MDT Facilitators,Meeting,Mental Health Clinicians,Mental Health Clinicians|Victim Advocates,VOCAA Partner Trainings (iCalendar feed)
END:VEVENT
BEGIN:VEVENT
DTSTART;TZID=America/Los_Angeles:20241017T100000
DTEND;TZID=America/Los_Angeles:20241017T113000
DTSTAMP:20260420T165912
CREATED:20241114T161342Z
LAST-MODIFIED:20241114T161415Z
UID:6038-1729159200-1729164600@www.westernregionalcac.org
SUMMARY:Victim Advocate & Mental Health Partnerships Peer Consultation Forum
DESCRIPTION:
URL:https://www.westernregionalcac.org/calendar/victim-advocate-mental-health-partnerships-peer-consultation-forum/
CATEGORIES:CAC Directors,Forum,In-Person,MDT Facilitators,Meeting,Mental Health Clinicians,Mental Health Clinicians|Victim Advocates
END:VEVENT
BEGIN:VEVENT
DTSTART;TZID=America/Los_Angeles:20241008T000000
DTEND;TZID=America/Los_Angeles:20241010T235900
DTSTAMP:20260420T165912
CREATED:20241114T161342Z
LAST-MODIFIED:20241114T161415Z
UID:6037-1728345600-1728604740@www.westernregionalcac.org
SUMMARY:National Chapter Summit
DESCRIPTION:
URL:https://www.westernregionalcac.org/calendar/national-chapter-summit/
CATEGORIES:CAC Directors,Forum,In-Person,MDT Facilitators,Meeting,Mental Health Clinicians,Mental Health Clinicians|Victim Advocates,VOCAA Partner Trainings (iCalendar feed)
END:VEVENT
BEGIN:VEVENT
DTSTART;TZID=America/Los_Angeles:20230802T110000
DTEND;TZID=America/Los_Angeles:20230802T120000
DTSTAMP:20260420T165912
CREATED:20221228T215551Z
LAST-MODIFIED:20241114T161415Z
UID:4651-1690974000-1690977600@www.westernregionalcac.org
SUMMARY:MDT Facilitator Peer Forums
DESCRIPTION:The Regional Children’s Advocacy Centers are partnering to host bi-monthly virtual MDT Facilitator Peer Forums to provide a space for MDT Facilitators to connect with their peers across the country doing similar work. \nLearn More on the Regional Children’s Advocacy Center’s Website >
URL:https://www.westernregionalcac.org/calendar/mdt-facilitator-peer-forums-3/
LOCATION:Zoom
CATEGORIES:CAC Directors,Forum,In-Person,MDT Facilitators,Meeting,Mental Health Clinicians,Mental Health Clinicians|Victim Advocates,Virtual
ATTACH;FMTTYPE=image/png:https://www.westernregionalcac.org/wp-content/uploads/2022/01/MDT-Facilitator-Peer-Forums-1.png
END:VEVENT
BEGIN:VEVENT
DTSTART;TZID=America/Los_Angeles:20230502T110000
DTEND;TZID=America/Los_Angeles:20230502T120000
DTSTAMP:20260420T165912
CREATED:20221228T215144Z
LAST-MODIFIED:20241114T161414Z
UID:4650-1683025200-1683028800@www.westernregionalcac.org
SUMMARY:MDT Facilitator Peer Forums
DESCRIPTION:The Regional Children’s Advocacy Centers are partnering to host bi-monthly virtual MDT Facilitator Peer Forums to provide a space for MDT Facilitators to connect with their peers across the country doing similar work. \nLearn More on the Regional Children’s Advocacy Center’s Website >
URL:https://www.westernregionalcac.org/calendar/mdt-facilitator-peer-forums-2/
LOCATION:Zoom
CATEGORIES:CAC Directors,Forum,In-Person,MDT Facilitators,Meeting,Mental Health Clinicians,Mental Health Clinicians|Victim Advocates,Virtual
ATTACH;FMTTYPE=image/png:https://www.westernregionalcac.org/wp-content/uploads/2022/01/MDT-Facilitator-Peer-Forums-1.png
END:VEVENT
BEGIN:VEVENT
DTSTART;TZID=America/Los_Angeles:20230207T090000
DTEND;TZID=America/Los_Angeles:20230207T103000
DTSTAMP:20260420T165912
CREATED:20221228T222046Z
LAST-MODIFIED:20241114T161414Z
UID:4653-1675760400-1675765800@www.westernregionalcac.org
SUMMARY:Mental Health Peer Consultation Forums
DESCRIPTION:WRCAC is partnering with the National Children’s Alliance (NCA) to host virtual Mental Health Peer Consultation Forums to provide a safe space for clinicians to share resources\, connect with other clinicians doing similar work\, and seek guidance on issues of importance. \n\nLearn More >
URL:https://www.westernregionalcac.org/calendar/mental-health-peer-consultation-forums/
CATEGORIES:CAC Directors,Forum,In-Person,MDT Facilitators,Meeting,Mental Health Clinicians,Mental Health Clinicians|Victim Advocates,Virtual
END:VEVENT
BEGIN:VEVENT
DTSTART;TZID=America/Los_Angeles:20230206T110000
DTEND;TZID=America/Los_Angeles:20230206T120000
DTSTAMP:20260420T165912
CREATED:20221228T213335Z
LAST-MODIFIED:20241114T161414Z
UID:4647-1675681200-1675684800@www.westernregionalcac.org
SUMMARY:MDT Facilitator Peer Forums
DESCRIPTION:The Regional Children’s Advocacy Centers are partnering to host bi-monthly virtual MDT Facilitator Peer Forums to provide a space for MDT Facilitators to connect with their peers across the country doing similar work. \nLearn More on the Regional Children’s Advocacy Center’s Website >
URL:https://www.westernregionalcac.org/calendar/mdt-facilitator-peer-forums/
LOCATION:Zoom
CATEGORIES:CAC Directors,Forum,In-Person,MDT Facilitators,Meeting,Mental Health Clinicians,Mental Health Clinicians|Victim Advocates,Virtual
ATTACH;FMTTYPE=image/png:https://www.westernregionalcac.org/wp-content/uploads/2022/01/MDT-Facilitator-Peer-Forums-1.png
END:VEVENT
END:VCALENDAR