BEGIN:VCALENDAR
VERSION:2.0
PRODID:-//WRCAC - ECPv6.15.20//NONSGML v1.0//EN
CALSCALE:GREGORIAN
METHOD:PUBLISH
X-ORIGINAL-URL:https://www.westernregionalcac.org
X-WR-CALDESC:Events for WRCAC
REFRESH-INTERVAL;VALUE=DURATION:PT1H
X-Robots-Tag:noindex
X-PUBLISHED-TTL:PT1H
BEGIN:VTIMEZONE
TZID:America/Los_Angeles
BEGIN:DAYLIGHT
TZOFFSETFROM:-0800
TZOFFSETTO:-0700
TZNAME:PDT
DTSTART:20230312T100000
END:DAYLIGHT
BEGIN:STANDARD
TZOFFSETFROM:-0700
TZOFFSETTO:-0800
TZNAME:PST
DTSTART:20231105T090000
END:STANDARD
BEGIN:DAYLIGHT
TZOFFSETFROM:-0800
TZOFFSETTO:-0700
TZNAME:PDT
DTSTART:20240310T100000
END:DAYLIGHT
BEGIN:STANDARD
TZOFFSETFROM:-0700
TZOFFSETTO:-0800
TZNAME:PST
DTSTART:20241103T090000
END:STANDARD
BEGIN:DAYLIGHT
TZOFFSETFROM:-0800
TZOFFSETTO:-0700
TZNAME:PDT
DTSTART:20250309T100000
END:DAYLIGHT
BEGIN:STANDARD
TZOFFSETFROM:-0700
TZOFFSETTO:-0800
TZNAME:PST
DTSTART:20251102T090000
END:STANDARD
BEGIN:DAYLIGHT
TZOFFSETFROM:-0800
TZOFFSETTO:-0700
TZNAME:PDT
DTSTART:20260308T100000
END:DAYLIGHT
BEGIN:STANDARD
TZOFFSETFROM:-0700
TZOFFSETTO:-0800
TZNAME:PST
DTSTART:20261101T090000
END:STANDARD
END:VTIMEZONE
BEGIN:VEVENT
DTSTART;TZID=America/Los_Angeles:20250508T110000
DTEND;TZID=America/Los_Angeles:20250508T123000
DTSTAMP:20260420T030424
CREATED:20241114T161352Z
LAST-MODIFIED:20241114T165656Z
UID:6086-1746702000-1746707400@www.westernregionalcac.org
SUMMARY:RCAC MDT Facilitator Peer Forum
DESCRIPTION:
URL:https://www.westernregionalcac.org/calendar/rcac-mdt-facilitator-peer-forum-4/
CATEGORIES:CAC Directors,Forum,In-Person,MDT Facilitators,Meeting,Mental Health Clinicians,Mental Health Clinicians|Victim Advocates,VOCAA Partner Trainings (iCalendar feed)
END:VEVENT
BEGIN:VEVENT
DTSTART;TZID=America/Los_Angeles:20250417T100000
DTEND;TZID=America/Los_Angeles:20250417T113000
DTSTAMP:20260420T030424
CREATED:20241114T161352Z
LAST-MODIFIED:20241114T165656Z
UID:6085-1744884000-1744889400@www.westernregionalcac.org
SUMMARY:Victim Advocate & Mental Health Partnerships Peer Consultation Forum
DESCRIPTION:
URL:https://www.westernregionalcac.org/calendar/victim-advocate-mental-health-partnerships-peer-consultation-forum-5/
CATEGORIES:CAC Directors,Forum,In-Person,MDT Facilitators,Meeting,Mental Health Clinicians,Mental Health Clinicians|Victim Advocates,VOCAA Partner Trainings (iCalendar feed)
END:VEVENT
BEGIN:VEVENT
DTSTART;TZID=America/Los_Angeles:20250417T100000
DTEND;TZID=America/Los_Angeles:20250417T113000
DTSTAMP:20260420T030424
CREATED:20241114T161352Z
LAST-MODIFIED:20241114T165656Z
UID:6084-1744884000-1744889400@www.westernregionalcac.org
SUMMARY:Victim Advocate & Mental Health Partnerships Peer Consultation Forum
DESCRIPTION:
URL:https://www.westernregionalcac.org/calendar/victim-advocate-mental-health-partnerships-peer-consultation-forum-4/
CATEGORIES:CAC Directors,Forum,In-Person,MDT Facilitators,Meeting,Mental Health Clinicians,Mental Health Clinicians|Victim Advocates
END:VEVENT
BEGIN:VEVENT
DTSTART;TZID=America/Los_Angeles:20250415T000000
DTEND;TZID=America/Los_Angeles:20250417T235900
DTSTAMP:20260420T030424
CREATED:20241114T161352Z
LAST-MODIFIED:20241114T165657Z
UID:6083-1744675200-1744934340@www.westernregionalcac.org
SUMMARY:RCAC FOTF2
DESCRIPTION:
URL:https://www.westernregionalcac.org/calendar/rcac-fotf2-3/
CATEGORIES:CAC Directors,Forum,In-Person,MDT Facilitators,Meeting,Mental Health Clinicians,Mental Health Clinicians|Victim Advocates,VOCAA Partner Trainings (iCalendar feed)
END:VEVENT
BEGIN:VEVENT
DTSTART;TZID=America/Los_Angeles:20250415T000000
DTEND;TZID=America/Los_Angeles:20250417T235900
DTSTAMP:20260420T030424
CREATED:20241114T161351Z
LAST-MODIFIED:20241114T165657Z
UID:6082-1744675200-1744934340@www.westernregionalcac.org
SUMMARY:RCAC FOTF2
DESCRIPTION:
URL:https://www.westernregionalcac.org/calendar/rcac-fotf2-2/
CATEGORIES:CAC Directors,Forum,In-Person,MDT Facilitators,Meeting,Mental Health Clinicians,Mental Health Clinicians|Victim Advocates
END:VEVENT
BEGIN:VEVENT
DTSTART;TZID=America/Los_Angeles:20250407T130000
DTEND;TZID=America/Los_Angeles:20250407T143000
DTSTAMP:20260420T030424
CREATED:20241114T161351Z
LAST-MODIFIED:20241114T165657Z
UID:6081-1744030800-1744036200@www.westernregionalcac.org
SUMMARY:WRCAC Executive Director Rural Peer Forum
DESCRIPTION:
URL:https://www.westernregionalcac.org/calendar/wrcac-executive-director-rural-peer-forum-4/
CATEGORIES:CAC Directors,Forum,In-Person,MDT Facilitators,Meeting,Mental Health Clinicians,Mental Health Clinicians|Victim Advocates,VOCAA Partner Trainings (iCalendar feed)
END:VEVENT
BEGIN:VEVENT
DTSTART;TZID=America/Los_Angeles:20250407T130000
DTEND;TZID=America/Los_Angeles:20250407T143000
DTSTAMP:20260420T030424
CREATED:20241114T161351Z
LAST-MODIFIED:20241114T165657Z
UID:6080-1744030800-1744036200@www.westernregionalcac.org
SUMMARY:WRCAC Executive Director Rural Peer Forum
DESCRIPTION:
URL:https://www.westernregionalcac.org/calendar/wrcac-executive-director-rural-peer-forum-3/
CATEGORIES:CAC Directors,Forum,In-Person,MDT Facilitators,Meeting,Mental Health Clinicians,Mental Health Clinicians|Victim Advocates
END:VEVENT
BEGIN:VEVENT
DTSTART;TZID=America/Los_Angeles:20250331T110000
DTEND;TZID=America/Los_Angeles:20250331T123000
DTSTAMP:20260420T030424
CREATED:20241114T161351Z
LAST-MODIFIED:20241114T165658Z
UID:6078-1743418800-1743424200@www.westernregionalcac.org
SUMMARY:RCAC MDT Facilitator Peer Forum
DESCRIPTION:
URL:https://www.westernregionalcac.org/calendar/rcac-mdt-facilitator-peer-forum-3/
CATEGORIES:CAC Directors,Forum,In-Person,MDT Facilitators,Meeting,Mental Health Clinicians,Mental Health Clinicians|Victim Advocates
END:VEVENT
BEGIN:VEVENT
DTSTART;TZID=America/Los_Angeles:20250331T110000
DTEND;TZID=America/Los_Angeles:20250331T123000
DTSTAMP:20260420T030424
CREATED:20241114T161350Z
LAST-MODIFIED:20241114T165658Z
UID:6079-1743418800-1743424200@www.westernregionalcac.org
SUMMARY:RCAC MDT Facilitator Peer Forum
DESCRIPTION:
URL:https://www.westernregionalcac.org/calendar/rcac-mdt-facilitator-peer-forum-2/
CATEGORIES:CAC Directors,Forum,In-Person,MDT Facilitators,Meeting,Mental Health Clinicians,Mental Health Clinicians|Victim Advocates,VOCAA Partner Trainings (iCalendar feed)
END:VEVENT
BEGIN:VEVENT
DTSTART;TZID=America/Los_Angeles:20250317T000000
DTEND;TZID=America/Los_Angeles:20250320T235900
DTSTAMP:20260420T030424
CREATED:20241114T161350Z
LAST-MODIFIED:20241114T165658Z
UID:6077-1742169600-1742515140@www.westernregionalcac.org
SUMMARY:International Symposium on Child Abuse
DESCRIPTION:
URL:https://www.westernregionalcac.org/calendar/international-symposium-on-child-abuse/
CATEGORIES:CAC Directors,Forum,In-Person,MDT Facilitators,Meeting,Mental Health Clinicians,Mental Health Clinicians|Victim Advocates,VOCAA Partner Trainings (iCalendar feed)
END:VEVENT
BEGIN:VEVENT
DTSTART;TZID=America/Los_Angeles:20250313T000000
DTEND;TZID=America/Los_Angeles:20250313T235900
DTSTAMP:20260420T030424
CREATED:20241114T161350Z
LAST-MODIFIED:20241114T165658Z
UID:6076-1741824000-1741910340@www.westernregionalcac.org
SUMMARY:Foundations of CAC Family Advocacy
DESCRIPTION:
URL:https://www.westernregionalcac.org/calendar/foundations-of-cac-family-advocacy-15/
CATEGORIES:CAC Directors,Forum,In-Person,MDT Facilitators,Meeting,Mental Health Clinicians,Mental Health Clinicians|Victim Advocates,VOCAA Partner Trainings (iCalendar feed)
END:VEVENT
BEGIN:VEVENT
DTSTART;TZID=America/Los_Angeles:20250313T000000
DTEND;TZID=America/Los_Angeles:20250313T235900
DTSTAMP:20260420T030424
CREATED:20241114T161350Z
LAST-MODIFIED:20241114T165659Z
UID:6075-1741824000-1741910340@www.westernregionalcac.org
SUMMARY:Foundations of CAC Family Advocacy
DESCRIPTION:
URL:https://www.westernregionalcac.org/calendar/foundations-of-cac-family-advocacy-14/
CATEGORIES:CAC Directors,Forum,In-Person,MDT Facilitators,Meeting,Mental Health Clinicians,Mental Health Clinicians|Victim Advocates,Victim Advocates
END:VEVENT
BEGIN:VEVENT
DTSTART;TZID=America/Los_Angeles:20250311T000000
DTEND;TZID=America/Los_Angeles:20250311T235900
DTSTAMP:20260420T030424
CREATED:20241114T161350Z
LAST-MODIFIED:20241114T165659Z
UID:6073-1741651200-1741737540@www.westernregionalcac.org
SUMMARY:Foundations of CAC Family Advocacy
DESCRIPTION:
URL:https://www.westernregionalcac.org/calendar/foundations-of-cac-family-advocacy-13/
CATEGORIES:CAC Directors,Forum,In-Person,MDT Facilitators,Meeting,Mental Health Clinicians,Mental Health Clinicians|Victim Advocates,Victim Advocates
END:VEVENT
BEGIN:VEVENT
DTSTART;TZID=America/Los_Angeles:20250311T000000
DTEND;TZID=America/Los_Angeles:20250311T235900
DTSTAMP:20260420T030424
CREATED:20241114T161349Z
LAST-MODIFIED:20241114T165659Z
UID:6074-1741651200-1741737540@www.westernregionalcac.org
SUMMARY:Foundations of CAC Family Advocacy
DESCRIPTION:
URL:https://www.westernregionalcac.org/calendar/foundations-of-cac-family-advocacy-12/
CATEGORIES:CAC Directors,Forum,In-Person,MDT Facilitators,Meeting,Mental Health Clinicians,Mental Health Clinicians|Victim Advocates,VOCAA Partner Trainings (iCalendar feed)
END:VEVENT
BEGIN:VEVENT
DTSTART;TZID=America/Los_Angeles:20250306T000000
DTEND;TZID=America/Los_Angeles:20250306T235900
DTSTAMP:20260420T030424
CREATED:20241114T161349Z
LAST-MODIFIED:20241114T165659Z
UID:6072-1741219200-1741305540@www.westernregionalcac.org
SUMMARY:Foundations of CAC Family Advocacy
DESCRIPTION:
URL:https://www.westernregionalcac.org/calendar/foundations-of-cac-family-advocacy-11/
CATEGORIES:CAC Directors,Forum,In-Person,MDT Facilitators,Meeting,Mental Health Clinicians,Mental Health Clinicians|Victim Advocates,VOCAA Partner Trainings (iCalendar feed)
END:VEVENT
BEGIN:VEVENT
DTSTART;TZID=America/Los_Angeles:20250304T000000
DTEND;TZID=America/Los_Angeles:20250305T235900
DTSTAMP:20260420T030424
CREATED:20241114T161349Z
LAST-MODIFIED:20241114T165659Z
UID:6071-1741046400-1741219140@www.westernregionalcac.org
SUMMARY:New Chapter Leader Orientation
DESCRIPTION:
URL:https://www.westernregionalcac.org/calendar/new-chapter-leader-orientation/
CATEGORIES:CAC Directors,Forum,In-Person,MDT Facilitators,Meeting,Mental Health Clinicians,Mental Health Clinicians|Victim Advocates,VOCAA Partner Trainings (iCalendar feed)
END:VEVENT
BEGIN:VEVENT
DTSTART;TZID=America/Los_Angeles:20250304T000000
DTEND;TZID=America/Los_Angeles:20250304T235900
DTSTAMP:20260420T030424
CREATED:20241114T161349Z
LAST-MODIFIED:20241114T165700Z
UID:6070-1741046400-1741132740@www.westernregionalcac.org
SUMMARY:Foundations of CAC Family Advocacy
DESCRIPTION:
URL:https://www.westernregionalcac.org/calendar/foundations-of-cac-family-advocacy-10/
CATEGORIES:CAC Directors,Forum,In-Person,MDT Facilitators,Meeting,Mental Health Clinicians,Mental Health Clinicians|Victim Advocates,VOCAA Partner Trainings (iCalendar feed)
END:VEVENT
BEGIN:VEVENT
DTSTART;TZID=America/Los_Angeles:20250304T000000
DTEND;TZID=America/Los_Angeles:20250304T235900
DTSTAMP:20260420T030424
CREATED:20241114T161349Z
LAST-MODIFIED:20241114T165700Z
UID:6069-1741046400-1741132740@www.westernregionalcac.org
SUMMARY:Foundations of CAC Family Advocacy
DESCRIPTION:
URL:https://www.westernregionalcac.org/calendar/foundations-of-cac-family-advocacy-9/
CATEGORIES:CAC Directors,Forum,In-Person,MDT Facilitators,Meeting,Mental Health Clinicians,Mental Health Clinicians|Victim Advocates,Victim Advocates
END:VEVENT
BEGIN:VEVENT
DTSTART;TZID=America/Los_Angeles:20250218T000000
DTEND;TZID=America/Los_Angeles:20250219T235900
DTSTAMP:20260420T030424
CREATED:20241114T161348Z
LAST-MODIFIED:20241114T165700Z
UID:6068-1739836800-1740009540@www.westernregionalcac.org
SUMMARY:RCAC FOTF1
DESCRIPTION:
URL:https://www.westernregionalcac.org/calendar/rcac-fotf1/
CATEGORIES:CAC Directors,Forum,In-Person,MDT Facilitators,Meeting,Mental Health Clinicians,Mental Health Clinicians|Victim Advocates,VOCAA Partner Trainings (iCalendar feed)
END:VEVENT
BEGIN:VEVENT
DTSTART;TZID=America/Los_Angeles:20250213T130000
DTEND;TZID=America/Los_Angeles:20250213T143000
DTSTAMP:20260420T030424
CREATED:20241114T161348Z
LAST-MODIFIED:20241114T165701Z
UID:6067-1739451600-1739457000@www.westernregionalcac.org
SUMMARY:WRCAC Executive Director Rural Peer Forum
DESCRIPTION:
URL:https://www.westernregionalcac.org/calendar/wrcac-executive-director-rural-peer-forum/
CATEGORIES:CAC Directors,Forum,In-Person,MDT Facilitators,Meeting,Mental Health Clinicians,Mental Health Clinicians|Victim Advocates,VOCAA Partner Trainings (iCalendar feed)
END:VEVENT
BEGIN:VEVENT
DTSTART;TZID=America/Los_Angeles:20250213T130000
DTEND;TZID=America/Los_Angeles:20250213T143000
DTSTAMP:20260420T030424
CREATED:20241114T161348Z
LAST-MODIFIED:20241114T165701Z
UID:6066-1739451600-1739457000@www.westernregionalcac.org
SUMMARY:WRCAC Executive Director Rural Peer Forum
DESCRIPTION:
URL:https://www.westernregionalcac.org/calendar/wrcac-executive-director-rural-peer-forum-2/
CATEGORIES:CAC Directors,Forum,In-Person,MDT Facilitators,Meeting,Mental Health Clinicians,Mental Health Clinicians|Victim Advocates
END:VEVENT
BEGIN:VEVENT
DTSTART;TZID=America/Los_Angeles:20250206T130000
DTEND;TZID=America/Los_Angeles:20250206T143000
DTSTAMP:20260420T030424
CREATED:20241114T161348Z
LAST-MODIFIED:20241114T165701Z
UID:6065-1738846800-1738852200@www.westernregionalcac.org
SUMMARY:WRCAC MDT Facilitator Rural Roundtable
DESCRIPTION:
URL:https://www.westernregionalcac.org/calendar/wrcac-mdt-facilitator-rural-roundtable-4/
CATEGORIES:CAC Directors,Forum,In-Person,MDT Facilitators,Meeting,Mental Health Clinicians,Mental Health Clinicians|Victim Advocates,VOCAA Partner Trainings (iCalendar feed)
END:VEVENT
BEGIN:VEVENT
DTSTART;TZID=America/Los_Angeles:20250206T130000
DTEND;TZID=America/Los_Angeles:20250206T143000
DTSTAMP:20260420T030424
CREATED:20241114T161347Z
LAST-MODIFIED:20241114T165702Z
UID:6064-1738846800-1738852200@www.westernregionalcac.org
SUMMARY:WRCAC MDT Facilitator Rural Roundtable
DESCRIPTION:
URL:https://www.westernregionalcac.org/calendar/wrcac-mdt-facilitator-rural-roundtable-3/
CATEGORIES:CAC Directors,Forum,In-Person,MDT Facilitators,Meeting,Mental Health Clinicians,Mental Health Clinicians|Victim Advocates
END:VEVENT
BEGIN:VEVENT
DTSTART;TZID=America/Los_Angeles:20250205T110000
DTEND;TZID=America/Los_Angeles:20250205T123000
DTSTAMP:20260420T030424
CREATED:20241114T161347Z
LAST-MODIFIED:20241114T165702Z
UID:6062-1738753200-1738758600@www.westernregionalcac.org
SUMMARY:RCAC Victim Advocacy Peer Forum
DESCRIPTION:
URL:https://www.westernregionalcac.org/calendar/rcac-victim-advocacy-peer-forum/
CATEGORIES:CAC Directors,Forum,In-Person,MDT Facilitators,Meeting,Mental Health Clinicians,Mental Health Clinicians|Victim Advocates,Victim Advocates
END:VEVENT
BEGIN:VEVENT
DTSTART;TZID=America/Los_Angeles:20250205T110000
DTEND;TZID=America/Los_Angeles:20250205T123000
DTSTAMP:20260420T030424
CREATED:20241114T161347Z
LAST-MODIFIED:20241114T165703Z
UID:6063-1738753200-1738758600@www.westernregionalcac.org
SUMMARY:RCAC Victim Advocacy Peer Forum
DESCRIPTION:
URL:https://www.westernregionalcac.org/calendar/rcac-victim-advocacy-peer-forum-2/
CATEGORIES:CAC Directors,Forum,In-Person,MDT Facilitators,Meeting,Mental Health Clinicians,Mental Health Clinicians|Victim Advocates,VOCAA Partner Trainings (iCalendar feed)
END:VEVENT
BEGIN:VEVENT
DTSTART;TZID=America/Los_Angeles:20250127T000000
DTEND;TZID=America/Los_Angeles:20250130T235900
DTSTAMP:20260420T030424
CREATED:20241114T161347Z
LAST-MODIFIED:20241114T165703Z
UID:6061-1737936000-1738281540@www.westernregionalcac.org
SUMMARY:Chadwick Conference
DESCRIPTION:
URL:https://www.westernregionalcac.org/calendar/chadwick-conference/
CATEGORIES:CAC Directors,Forum,In-Person,MDT Facilitators,Meeting,Mental Health Clinicians,Mental Health Clinicians|Victim Advocates,VOCAA Partner Trainings (iCalendar feed)
END:VEVENT
BEGIN:VEVENT
DTSTART;TZID=America/Los_Angeles:20250123T120000
DTEND;TZID=America/Los_Angeles:20250123T133000
DTSTAMP:20260420T030424
CREATED:20241114T161347Z
LAST-MODIFIED:20241114T165703Z
UID:6060-1737633600-1737639000@www.westernregionalcac.org
SUMMARY:Victim Advocate & Mental Health Partnerships Peer Consultation Forum
DESCRIPTION:
URL:https://www.westernregionalcac.org/calendar/victim-advocate-mental-health-partnerships-peer-consultation-forum-3/
CATEGORIES:CAC Directors,Forum,In-Person,MDT Facilitators,Meeting,Mental Health Clinicians,Mental Health Clinicians|Victim Advocates,VOCAA Partner Trainings (iCalendar feed)
END:VEVENT
BEGIN:VEVENT
DTSTART;TZID=America/Los_Angeles:20250123T120000
DTEND;TZID=America/Los_Angeles:20250123T133000
DTSTAMP:20260420T030424
CREATED:20241114T161346Z
LAST-MODIFIED:20241114T165703Z
UID:6059-1737633600-1737639000@www.westernregionalcac.org
SUMMARY:Victim Advocate & Mental Health Partnerships Peer Consultation Forum
DESCRIPTION:
URL:https://www.westernregionalcac.org/calendar/victim-advocate-mental-health-partnerships-peer-consultation-forum-2/
CATEGORIES:CAC Directors,Forum,In-Person,MDT Facilitators,Meeting,Mental Health Clinicians,Mental Health Clinicians|Victim Advocates
END:VEVENT
BEGIN:VEVENT
DTSTART;TZID=America/Los_Angeles:20250116T000000
DTEND;TZID=America/Los_Angeles:20250116T235900
DTSTAMP:20260420T030424
CREATED:20241114T161346Z
LAST-MODIFIED:20241114T165704Z
UID:6058-1736985600-1737071940@www.westernregionalcac.org
SUMMARY:CE-CERT Part 1:  South Carolina Network of Children's Advocacy Centers
DESCRIPTION:
URL:https://www.westernregionalcac.org/calendar/ce-cert-part-1-south-carolina-network-of-childrens-advocacy-centers/
CATEGORIES:CAC Directors,Forum,In-Person,MDT Facilitators,Meeting,Mental Health Clinicians,Mental Health Clinicians|Victim Advocates,VOCAA Partner Trainings (iCalendar feed)
END:VEVENT
BEGIN:VEVENT
DTSTART;TZID=America/Los_Angeles:20241218T000000
DTEND;TZID=America/Los_Angeles:20241218T235900
DTSTAMP:20260420T030424
CREATED:20241114T161346Z
LAST-MODIFIED:20241114T165704Z
UID:6057-1734480000-1734566340@www.westernregionalcac.org
SUMMARY:Foundations of CAC Family Advocacy
DESCRIPTION:
URL:https://www.westernregionalcac.org/calendar/foundations-of-cac-family-advocacy-8/
CATEGORIES:CAC Directors,Forum,In-Person,MDT Facilitators,Meeting,Mental Health Clinicians,Mental Health Clinicians|Victim Advocates,VOCAA Partner Trainings (iCalendar feed)
END:VEVENT
END:VCALENDAR